BEGIN:VCALENDAR
VERSION:2.0
PRODID:-//bgcpb.org//NONSGML kigkonsult.se iCalcreator 2.30.10//
CALSCALE:GREGORIAN
METHOD:PUBLISH
UID:c59dac53-7717-4854-9a40-21a26b33de57
X-WR-CALDESC:
X-WR-RELCALID:83ed5f095e3f7e2da99cede5d6a820cd
X-WR-TIMEZONE:America/Chicago
BEGIN:VTIMEZONE
TZID:America/Chicago
BEGIN:STANDARD
TZNAME:CST
DTSTART:20251102T020000
TZOFFSETFROM:-0500
TZOFFSETTO:-0600
RDATE:20261101T020000
RDATE:20271107T020000
END:STANDARD
BEGIN:DAYLIGHT
TZNAME:CDT
DTSTART:20260308T020000
TZOFFSETFROM:-0600
TZOFFSETTO:-0500
RDATE:20270314T020000
END:DAYLIGHT
END:VTIMEZONE
BEGIN:VEVENT
UID:302e14d8-aff6-4c14-aa07-591416ae4f64
DTSTAMP:20260425T224955Z
DESCRIPTION:
DTSTART;TZID=America/Chicago:20260514T180000
DTEND;TZID=America/Chicago:20260514T210000
LOCATION:301 S. 5th Street\, Poplar Bluff\, AL 63901 US
SUMMARY:Taste of the Town (Tickets go on sale JANUARY 5\, 2026)
END:VEVENT
END:VCALENDAR
