BEGIN:VCALENDAR
VERSION:2.0
PRODID:-//bgcpb.org//NONSGML kigkonsult.se iCalcreator 2.30.10//
CALSCALE:GREGORIAN
METHOD:PUBLISH
UID:0241e4e2-1794-4d07-8429-38e8b91d21f8
X-WR-CALDESC:The Poplar Bluff Club’s Annual Steak & Burger Dinner will take
  place for its fifth year this fall at the Black River Coliseum. This even
 t features Club members mingling with the burger dinner guests\, then auct
 ioning off one prestigious steak to the highest bidder at their table. Fea
 turing a live and silent auction\, and of course the highlight of the even
 ing: our guest speaker\, Mike Shannon.
X-WR-RELCALID:6532b050da73a410571e932cbc30448a
X-WR-TIMEZONE:America/Chicago
BEGIN:VTIMEZONE
TZID:America/Chicago
BEGIN:STANDARD
TZNAME:CST
DTSTART:20161106T020000
TZOFFSETFROM:-0500
TZOFFSETTO:-0600
RDATE:20171105T020000
END:STANDARD
BEGIN:DAYLIGHT
TZNAME:CDT
DTSTART:20160313T020000
TZOFFSETFROM:-0600
TZOFFSETTO:-0500
RDATE:20170312T020000
RDATE:20180311T020000
END:DAYLIGHT
END:VTIMEZONE
BEGIN:VEVENT
UID:7e866666-7410-4126-953e-72a189ddb89e
DTSTAMP:20260419T133134Z
DESCRIPTION:The Poplar Bluff Club’s Annual Steak & Burger Dinner will take 
 place for its fifth year this fall at the Black River Coliseum. This event
  features Club members mingling with the burger dinner guests\, then aucti
 oning off one prestigious steak to the highest bidder at their table. Feat
 uring a live and silent auction\, and of course the highlight of the eveni
 ng: our guest speaker\, Mike Shannon.
DTSTART;TZID=America/Chicago:20161110T173000
DTEND;TZID=America/Chicago:20161110T213000
LOCATION:
SUMMARY:Steak and Burger 2016
END:VEVENT
END:VCALENDAR
